BEGIN:VCALENDAR
VERSION:2.0
PRODID:-//United Distributors - ECPv6.15.0.1//NONSGML v1.0//EN
CALSCALE:GREGORIAN
METHOD:PUBLISH
X-ORIGINAL-URL:https://udiala.com
X-WR-CALDESC:Events for United Distributors
REFRESH-INTERVAL;VALUE=DURATION:PT1H
X-Robots-Tag:noindex
X-PUBLISHED-TTL:PT1H
BEGIN:VTIMEZONE
TZID:America/Chicago
BEGIN:DAYLIGHT
TZOFFSETFROM:-0600
TZOFFSETTO:-0500
TZNAME:CDT
DTSTART:20240310T080000
END:DAYLIGHT
BEGIN:STANDARD
TZOFFSETFROM:-0500
TZOFFSETTO:-0600
TZNAME:CST
DTSTART:20241103T070000
END:STANDARD
END:VTIMEZONE
BEGIN:VEVENT
DTSTART;TZID=America/Chicago:20240302T103000
DTEND;TZID=America/Chicago:20240302T150000
DTSTAMP:20260421T061335
CREATED:20240124T145615Z
LAST-MODIFIED:20240124T145615Z
UID:10000057-1709375400-1709391600@udiala.com
SUMMARY:Chili Cook-Off
DESCRIPTION:20th Annual Chili Cook-Off at Brookwood Village
URL:https://udiala.com/event/chili-cook-off-2/
LOCATION:Brookwood Village\, 614 Brookwood Village\, Mountain Brook\, AL\, 35209\, United States
END:VEVENT
BEGIN:VEVENT
DTSTART;TZID=America/Chicago:20240305T170000
DTEND;TZID=America/Chicago:20240305T200000
DTSTAMP:20260421T061335
CREATED:20240222T202045Z
LAST-MODIFIED:20240222T202045Z
UID:10000069-1709658000-1709668800@udiala.com
SUMMARY:Birmingham Restaurant Week Wineology 2024
DESCRIPTION:By Birmingham Restaurant Week \nLocation: Uptown Cantina \n2301 Richard Arrington Junior Boulevard North #Unit 200 Birmingham\, AL 35203
URL:https://udiala.com/event/birmingham-restaurant-week-wineology-2024/
LOCATION:Uptown Cantina\, 2301 Richard Arrington Junior Boulevard North #Unit 200\, Birmingham\, AL\, 35203\, United States
END:VEVENT
BEGIN:VEVENT
DTSTART;TZID=America/Chicago:20240311T180000
DTEND;TZID=America/Chicago:20240311T180000
DTSTAMP:20260421T061335
CREATED:20240104T222409Z
LAST-MODIFIED:20240104T222636Z
UID:10000056-1710180000-1710180000@udiala.com
SUMMARY:Locations Wine Dinner
DESCRIPTION:Corks and Cattle at Enterprise\, AL
URL:https://udiala.com/event/locations-wine-dinner/
LOCATION:AL
END:VEVENT
BEGIN:VEVENT
DTSTART;TZID=America/Chicago:20240322T160000
DTEND;TZID=America/Chicago:20240322T180000
DTSTAMP:20260421T061335
CREATED:20240315T153440Z
LAST-MODIFIED:20240315T153440Z
UID:10000070-1711123200-1711130400@udiala.com
SUMMARY:St. Michelle Wine Tasting
DESCRIPTION:Location: Greer’s \n10835 Dauphin Island\, Theodore\, AL 36582
URL:https://udiala.com/event/st-michelle-wine-tasting/
LOCATION:10835 DAUPHIN ISLAND\, THEODORE\, AL 36582
END:VEVENT
BEGIN:VEVENT
DTSTART;TZID=America/Chicago:20240328T170000
DTEND;TZID=America/Chicago:20240328T200000
DTSTAMP:20260421T061335
CREATED:20240326T164638Z
LAST-MODIFIED:20240326T164638Z
UID:10000075-1711645200-1711656000@udiala.com
SUMMARY:Oyster City Tap Takeover
DESCRIPTION:Saw’s Juke Joint
URL:https://udiala.com/event/oyster-city-tap-takeover/
LOCATION:Saw’s Juke Joint
END:VEVENT
END:VCALENDAR