BEGIN:VCALENDAR
VERSION:2.0
PRODID:-//United Distributors - ECPv6.15.0.1//NONSGML v1.0//EN
CALSCALE:GREGORIAN
METHOD:PUBLISH
X-WR-CALNAME:United Distributors
X-ORIGINAL-URL:https://udiala.com
X-WR-CALDESC:Events for United Distributors
REFRESH-INTERVAL;VALUE=DURATION:PT1H
X-Robots-Tag:noindex
X-PUBLISHED-TTL:PT1H
BEGIN:VTIMEZONE
TZID:America/Chicago
BEGIN:DAYLIGHT
TZOFFSETFROM:-0600
TZOFFSETTO:-0500
TZNAME:CDT
DTSTART:20240310T080000
END:DAYLIGHT
BEGIN:STANDARD
TZOFFSETFROM:-0500
TZOFFSETTO:-0600
TZNAME:CST
DTSTART:20241103T070000
END:STANDARD
END:VTIMEZONE
BEGIN:VEVENT
DTSTART;TZID=America/Chicago:20240203T140000
DTEND;TZID=America/Chicago:20240203T180000
DTSTAMP:20260421T074859
CREATED:20240129T144019Z
LAST-MODIFIED:20240129T144019Z
UID:10000059-1706968800-1706983200@udiala.com
SUMMARY:8th Annual Von Brewski Beer Festival
DESCRIPTION:8th Annual Von Brewski Beer Festival \nVBC Propst Arena
URL:https://udiala.com/event/8th-annual-von-brewski-beer-festival/
LOCATION:VBC Propst Arena
END:VEVENT
BEGIN:VEVENT
DTSTART;TZID=America/Chicago:20240207T170000
DTEND;TZID=America/Chicago:20240207T170000
DTSTAMP:20260421T074859
CREATED:20240206T213830Z
LAST-MODIFIED:20240206T213830Z
UID:10000062-1707325200-1707325200@udiala.com
SUMMARY:Old Forester Whiskey Row Bingo
DESCRIPTION:Red Shamrock – Mt. Laurel\, AL \n 
URL:https://udiala.com/event/old-forester-whiskey-row-bingo/
LOCATION:Red Shamrock – Mt. Laurel\, AL
END:VEVENT
BEGIN:VEVENT
DTSTART;TZID=America/Chicago:20240208T180000
DTEND;TZID=America/Chicago:20240208T180000
DTSTAMP:20260421T074859
CREATED:20240206T214419Z
LAST-MODIFIED:20240206T214419Z
UID:10000063-1707415200-1707415200@udiala.com
SUMMARY:Booker Wine Dinner
DESCRIPTION:Bellini’s – Hoover\, AL
URL:https://udiala.com/event/booker-wine-dinner-2/
LOCATION:Bellini’s – Hoover\, AL
END:VEVENT
BEGIN:VEVENT
DTSTART;TZID=America/Chicago:20240213T180000
DTEND;TZID=America/Chicago:20240213T180000
DTSTAMP:20260421T074859
CREATED:20240206T214957Z
LAST-MODIFIED:20240206T214957Z
UID:10000064-1707847200-1707847200@udiala.com
SUMMARY:Wine Tasting
DESCRIPTION:Taste  – Montgomery\, AL
URL:https://udiala.com/event/wine-tasting-2/
LOCATION:Taste – Montgomery\, AL
END:VEVENT
BEGIN:VEVENT
DTSTART;TZID=America/Chicago:20240214T180000
DTEND;TZID=America/Chicago:20240214T180000
DTSTAMP:20260421T074859
CREATED:20240126T165527Z
LAST-MODIFIED:20240126T165527Z
UID:10000058-1707933600-1707933600@udiala.com
SUMMARY:Zeke's Restaurant - Italian Wine Dinner
DESCRIPTION:Italian Wine Dinner at Zeke’s Restaurant \n26619 Perdido Beach Blvd\, Orange Beach\, AL
URL:https://udiala.com/event/zekes-restaurant-italian-wine-dinner/
LOCATION:Zeke’s Restaurant\, 26619 Perdido Beach Blvd\, Orange Beach\, AL\, United States
END:VEVENT
BEGIN:VEVENT
DTSTART;TZID=America/Chicago:20240217T193000
DTEND;TZID=America/Chicago:20240217T193000
DTSTAMP:20260421T074859
CREATED:20240206T220525Z
LAST-MODIFIED:20240206T220525Z
UID:10000065-1708198200-1708198200@udiala.com
SUMMARY:Wine Dinner
DESCRIPTION:Peppertree Steaks and Wine – Montgomery\, AL
URL:https://udiala.com/event/wine-dinner-2/
LOCATION:Peppertree Steaks and Wine – Montgomery\, AL
END:VEVENT
BEGIN:VEVENT
DTSTART;TZID=America/Chicago:20240222T163000
DTEND;TZID=America/Chicago:20240222T183000
DTSTAMP:20260421T074859
CREATED:20240213T220633Z
LAST-MODIFIED:20240213T220633Z
UID:10000068-1708619400-1708626600@udiala.com
SUMMARY:Scofflaw Tap Event
DESCRIPTION:Scofflaw Tap Event @ Hop City
URL:https://udiala.com/event/scofflaw-tap-event/
LOCATION:Hop City
END:VEVENT
BEGIN:VEVENT
DTSTART;TZID=America/Chicago:20240222T180000
DTEND;TZID=America/Chicago:20240222T200000
DTSTAMP:20260421T074859
CREATED:20240209T204032Z
LAST-MODIFIED:20240209T204032Z
UID:10000067-1708624800-1708632000@udiala.com
SUMMARY:Braided River Tap Takeover
DESCRIPTION:The Beer Hog \n2408 Pelham Pkwy Pelham\, AL 35124 \nFebruary 22\, 2024\, 6 PM – 8 PM
URL:https://udiala.com/event/braided-river-tap-takeover/
LOCATION:The Beer Hog – 2408 Pelham Pkwy\, Pelham\, AL 35124
END:VEVENT
BEGIN:VEVENT
DTSTART;TZID=America/Chicago:20240229T183000
DTEND;TZID=America/Chicago:20240229T183000
DTSTAMP:20260421T074859
CREATED:20240206T222603Z
LAST-MODIFIED:20240206T222603Z
UID:10000066-1709231400-1709231400@udiala.com
SUMMARY:Farrely's Leap Year Wine Tasting
DESCRIPTION:Farrely’s Leap Year Wine Tasting – Hoover\, AL
URL:https://udiala.com/event/farrelys-leap-year-wine-tasting/
LOCATION:AL
END:VEVENT
END:VCALENDAR