BEGIN:VCALENDAR
VERSION:2.0
PRODID:-//United Distributors - ECPv6.15.0.1//NONSGML v1.0//EN
CALSCALE:GREGORIAN
METHOD:PUBLISH
X-WR-CALNAME:United Distributors
X-ORIGINAL-URL:https://udiala.com
X-WR-CALDESC:Events for United Distributors
REFRESH-INTERVAL;VALUE=DURATION:PT1H
X-Robots-Tag:noindex
X-PUBLISHED-TTL:PT1H
BEGIN:VTIMEZONE
TZID:America/Chicago
BEGIN:DAYLIGHT
TZOFFSETFROM:-0600
TZOFFSETTO:-0500
TZNAME:CDT
DTSTART:20240310T080000
END:DAYLIGHT
BEGIN:STANDARD
TZOFFSETFROM:-0500
TZOFFSETTO:-0600
TZNAME:CST
DTSTART:20241103T070000
END:STANDARD
END:VTIMEZONE
BEGIN:VEVENT
DTSTART;TZID=America/Chicago:20240117T170000
DTEND;TZID=America/Chicago:20240117T170000
DTSTAMP:20260421T093208
CREATED:20240104T220051Z
LAST-MODIFIED:20240104T220051Z
UID:10000049-1705510800-1705510800@udiala.com
SUMMARY:Booker Wine Dinner
DESCRIPTION:Local and Company\, Foley\, AL
URL:https://udiala.com/event/booker-wine-dinner/
LOCATION:AL
END:VEVENT
BEGIN:VEVENT
DTSTART;TZID=America/Chicago:20240117T170000
DTEND;TZID=America/Chicago:20240117T170000
DTSTAMP:20260421T093208
CREATED:20240104T220414Z
LAST-MODIFIED:20240104T220414Z
UID:10000050-1705510800-1705510800@udiala.com
SUMMARY:Spanish Wine Dinner
DESCRIPTION:Zeke’s Restaurant at Orange Beach\, AL
URL:https://udiala.com/event/spanish-wine-dinner/
LOCATION:AL
END:VEVENT
BEGIN:VEVENT
DTSTART;TZID=America/Chicago:20240121T170000
DTEND;TZID=America/Chicago:20240121T170000
DTSTAMP:20260421T093208
CREATED:20240104T222135Z
LAST-MODIFIED:20240104T222135Z
UID:10000055-1705856400-1705856400@udiala.com
SUMMARY:Orin Swift Wine Dinner
DESCRIPTION:Local and Company at Foley\, AL
URL:https://udiala.com/event/orin-swift-wine-dinner-2/
LOCATION:AL
END:VEVENT
BEGIN:VEVENT
DTSTART;TZID=America/Chicago:20240125T170000
DTEND;TZID=America/Chicago:20240125T170000
DTSTAMP:20260421T093208
CREATED:20240104T220643Z
LAST-MODIFIED:20240104T220724Z
UID:10000051-1706202000-1706202000@udiala.com
SUMMARY:Wine Tasting
DESCRIPTION:Lucky Flight Bottle Shoppe at Dadeville\, AL
URL:https://udiala.com/event/wine-tasting/
LOCATION:AL
END:VEVENT
BEGIN:VEVENT
DTSTART;TZID=America/Chicago:20240125T180000
DTEND;TZID=America/Chicago:20240125T180000
DTSTAMP:20260421T093208
CREATED:20240104T221037Z
LAST-MODIFIED:20240104T221037Z
UID:10000052-1706205600-1706205600@udiala.com
SUMMARY:Prisoner Wine Dinner
DESCRIPTION:Fish Market 280 at Birmingham\, AL
URL:https://udiala.com/event/prisoner-wine-dinner/
LOCATION:AL
END:VEVENT
BEGIN:VEVENT
DTSTART;TZID=America/Chicago:20240125T180000
DTEND;TZID=America/Chicago:20240125T180000
DTSTAMP:20260421T093208
CREATED:20240104T221355Z
LAST-MODIFIED:20240104T221355Z
UID:10000053-1706205600-1706205600@udiala.com
SUMMARY:Rombauer Wine Dinner
DESCRIPTION:Grand Bohemian Hotel at Mt. Brook\, AL
URL:https://udiala.com/event/rombauer-wine-dinner/
LOCATION:AL
END:VEVENT
BEGIN:VEVENT
DTSTART;TZID=America/Chicago:20240131T180000
DTEND;TZID=America/Chicago:20240131T180000
DTSTAMP:20260421T093208
CREATED:20240104T221812Z
LAST-MODIFIED:20240104T221812Z
UID:10000054-1706724000-1706724000@udiala.com
SUMMARY:Wine Dinner
DESCRIPTION:Savanna Gulf Shores\, AL
URL:https://udiala.com/event/wine-dinner/
LOCATION:AL
END:VEVENT
END:VCALENDAR