BEGIN:VCALENDAR
VERSION:2.0
PRODID:-//United Distributors - ECPv6.15.0.1//NONSGML v1.0//EN
CALSCALE:GREGORIAN
METHOD:PUBLISH
X-ORIGINAL-URL:https://udiala.com
X-WR-CALDESC:Events for United Distributors
REFRESH-INTERVAL;VALUE=DURATION:PT1H
X-Robots-Tag:noindex
X-PUBLISHED-TTL:PT1H
BEGIN:VTIMEZONE
TZID:America/Chicago
BEGIN:DAYLIGHT
TZOFFSETFROM:-0600
TZOFFSETTO:-0500
TZNAME:CDT
DTSTART:20230312T080000
END:DAYLIGHT
BEGIN:STANDARD
TZOFFSETFROM:-0500
TZOFFSETTO:-0600
TZNAME:CST
DTSTART:20231105T070000
END:STANDARD
END:VTIMEZONE
BEGIN:VEVENT
DTSTART;TZID=America/Chicago:20230504T183000
DTEND;TZID=America/Chicago:20230504T183000
DTSTAMP:20260422T033245
CREATED:20230323T161946Z
LAST-MODIFIED:20230323T161946Z
UID:10000036-1683225000-1683225000@udiala.com
SUMMARY:Stag’s Leap Wine Cellars Dinners
DESCRIPTION:Stag’s Leap Wine Cellars Dinners \nRuth’s Chris Steakhouse – Mobile\, Huntsville\, and Birmingham
URL:https://udiala.com/event/stags-leap-wine-cellars-dinners/
LOCATION:Ruth’s Chris Steakhouse – Mobile\, Huntsville\, and Birmingham
END:VEVENT
BEGIN:VEVENT
DTSTART;TZID=America/Chicago:20230506T180000
DTEND;TZID=America/Chicago:20230506T180000
DTSTAMP:20260422T033245
CREATED:20230323T162305Z
LAST-MODIFIED:20230323T162305Z
UID:10000037-1683396000-1683396000@udiala.com
SUMMARY:Tequila and Wine Dinner
DESCRIPTION:Tequila and Wine Dinner \nGM 705 – Homewood\, AL
URL:https://udiala.com/event/tequila-and-wine-dinner/
LOCATION:GM 705 – Homewood\, AL
END:VEVENT
BEGIN:VEVENT
DTSTART;TZID=America/Chicago:20230510T173000
DTEND;TZID=America/Chicago:20230510T173000
DTSTAMP:20260422T033245
CREATED:20230323T162749Z
LAST-MODIFIED:20230323T162749Z
UID:10000038-1683739800-1683739800@udiala.com
SUMMARY:Orin Swift Wine Dinner
DESCRIPTION:Orin Swift Wine Dinner \nGalley and Garden – Birmingham\, AL
URL:https://udiala.com/event/orin-swift-wine-dinner/
LOCATION:Galley and Garden – Birmingham\, AL
END:VEVENT
BEGIN:VEVENT
DTSTART;TZID=America/Chicago:20230512T180000
DTEND;TZID=America/Chicago:20230512T210000
DTSTAMP:20260422T033245
CREATED:20230421T134950Z
LAST-MODIFIED:20230421T134950Z
UID:10000045-1683914400-1683925200@udiala.com
SUMMARY:11th ANNUAL RIVERBEND BREWFEST
DESCRIPTION:
URL:https://udiala.com/event/11th-annual-riverbend-brewfest/
LOCATION:Union Station Train Shed
END:VEVENT
BEGIN:VEVENT
DTSTART;TZID=America/Chicago:20230513T180000
DTEND;TZID=America/Chicago:20230513T210000
DTSTAMP:20260422T033245
CREATED:20230404T135257Z
LAST-MODIFIED:20230404T135257Z
UID:10000043-1684000800-1684011600@udiala.com
SUMMARY:Magic City Wine Fest
DESCRIPTION:Magic City Wine Fest \nRailroad Park \nLink : https://www.magiccitywinefest.com/
URL:https://udiala.com/event/magic-city-wine-fest-2/
LOCATION:Railroad Park  1600 1st Ave S\, Birmingham\, AL 35233
END:VEVENT
BEGIN:VEVENT
DTSTART;TZID=America/Chicago:20230517T170000
DTEND;TZID=America/Chicago:20230517T170000
DTSTAMP:20260422T033245
CREATED:20230323T163047Z
LAST-MODIFIED:20230323T163047Z
UID:10000039-1684342800-1684342800@udiala.com
SUMMARY:Rose Wine Dinner
DESCRIPTION:Rose Wine Dinner \nVillaggio Grille – Orange Beach\, AL
URL:https://udiala.com/event/rose-wine-dinner/
LOCATION:Villaggio Grille – Orange Beach\, AL
END:VEVENT
END:VCALENDAR