BEGIN:VCALENDAR
VERSION:2.0
PRODID:-//United Distributors - ECPv6.15.0.1//NONSGML v1.0//EN
CALSCALE:GREGORIAN
METHOD:PUBLISH
X-WR-CALNAME:United Distributors
X-ORIGINAL-URL:https://udiala.com
X-WR-CALDESC:Events for United Distributors
REFRESH-INTERVAL;VALUE=DURATION:PT1H
X-Robots-Tag:noindex
X-PUBLISHED-TTL:PT1H
BEGIN:VTIMEZONE
TZID:America/Chicago
BEGIN:DAYLIGHT
TZOFFSETFROM:-0600
TZOFFSETTO:-0500
TZNAME:CDT
DTSTART:20210314T080000
END:DAYLIGHT
BEGIN:STANDARD
TZOFFSETFROM:-0500
TZOFFSETTO:-0600
TZNAME:CST
DTSTART:20211107T070000
END:STANDARD
END:VTIMEZONE
BEGIN:VEVENT
DTSTART;TZID=America/Chicago:20210724T190000
DTEND;TZID=America/Chicago:20210724T230000
DTSTAMP:20260421T173645
CREATED:20210625T201549Z
LAST-MODIFIED:20210625T201549Z
UID:10000023-1627153200-1627167600@udiala.com
SUMMARY:Pink Palace Casino Night 2021
DESCRIPTION:Enjoy Vegas-style Casino Gaming\, Live Entertainment\, Drinks\, and Great Food!\nBuy tickets here.
URL:https://udiala.com/event/pink-palace-casino-night-2021/
LOCATION:Soiree Event Gallery\, 2132 Lorna Ridge Ln\, Birmingham\, Alabama\, 35216\, United States
END:VEVENT
END:VCALENDAR