BEGIN:VCALENDAR
VERSION:2.0
PRODID:-//United Distributors - ECPv6.15.0.1//NONSGML v1.0//EN
CALSCALE:GREGORIAN
METHOD:PUBLISH
X-ORIGINAL-URL:https://udiala.com
X-WR-CALDESC:Events for United Distributors
REFRESH-INTERVAL;VALUE=DURATION:PT1H
X-Robots-Tag:noindex
X-PUBLISHED-TTL:PT1H
BEGIN:VTIMEZONE
TZID:America/Chicago
BEGIN:DAYLIGHT
TZOFFSETFROM:-0600
TZOFFSETTO:-0500
TZNAME:CDT
DTSTART:20250309T080000
END:DAYLIGHT
BEGIN:STANDARD
TZOFFSETFROM:-0500
TZOFFSETTO:-0600
TZNAME:CST
DTSTART:20251102T070000
END:STANDARD
END:VTIMEZONE
BEGIN:VEVENT
DTSTART;TZID=America/Chicago:20250311T180000
DTEND;TZID=America/Chicago:20250311T180000
DTSTAMP:20260421T202705
CREATED:20250218T202317Z
LAST-MODIFIED:20250218T202317Z
UID:10000094-1741716000-1741716000@udiala.com
SUMMARY:Rombauer Vineyards Signature Wine Dinner
DESCRIPTION:Cotton Row\nRombauer Vineyards Signature Wine Dinner\nTuesday\, March 11\, 2025 6:00 PM\nHuntsville\nIndulge in an intimate wine dinner thoughtfully paired with a curated menu created by Chef James Boyce
URL:https://udiala.com/event/rombauer-vineyards-signature-wine-dinner/
LOCATION:Cotton Row\, 100 South Side Square\, Huntsville\, AL\, 35801\, United States
END:VEVENT
END:VCALENDAR