BEGIN:VCALENDAR
VERSION:2.0
PRODID:-//United Distributors - ECPv6.15.0.1//NONSGML v1.0//EN
CALSCALE:GREGORIAN
METHOD:PUBLISH
X-ORIGINAL-URL:https://udiala.com
X-WR-CALDESC:Events for United Distributors
REFRESH-INTERVAL;VALUE=DURATION:PT1H
X-Robots-Tag:noindex
X-PUBLISHED-TTL:PT1H
BEGIN:VTIMEZONE
TZID:America/Chicago
BEGIN:DAYLIGHT
TZOFFSETFROM:-0600
TZOFFSETTO:-0500
TZNAME:CDT
DTSTART:20240310T080000
END:DAYLIGHT
BEGIN:STANDARD
TZOFFSETFROM:-0500
TZOFFSETTO:-0600
TZNAME:CST
DTSTART:20241103T070000
END:STANDARD
END:VTIMEZONE
BEGIN:VEVENT
DTSTART;TZID=America/Chicago:20240525T110000
DTEND;TZID=America/Chicago:20240525T130000
DTSTAMP:20260421T033646
CREATED:20240507T161111Z
LAST-MODIFIED:20240507T161111Z
UID:10000082-1716634800-1716642000@udiala.com
SUMMARY:Tasting Event - Shottys/Menage Exotic
DESCRIPTION:Location:  400 E Beach Blvd.  Gulf Shores\, AL 36542
URL:https://udiala.com/event/tasting-event-shottys-menage-exotic/
LOCATION:400 E Beach Blvd.  Gulf Shores\, AL 36542
END:VEVENT
BEGIN:VEVENT
DTSTART;TZID=America/Chicago:20240525T210000
DTEND;TZID=America/Chicago:20240525T210000
DTSTAMP:20260421T033646
CREATED:20240522T144257Z
LAST-MODIFIED:20240522T144257Z
UID:10000085-1716670800-1716670800@udiala.com
SUMMARY:National Wine Day at Paper Doll
DESCRIPTION:25 May 2024 at 09:00 PM \nLocation: 2320 1st Ave N\, Birmingham\, AL 35203 \n 
URL:https://udiala.com/event/national-wine-day-at-paper-doll/
LOCATION:2320 1st Ave N\, Birmingham\, AL 35203
END:VEVENT
END:VCALENDAR