BEGIN:VCALENDAR
VERSION:2.0
PRODID:-//United Distributors - ECPv6.15.0.1//NONSGML v1.0//EN
CALSCALE:GREGORIAN
METHOD:PUBLISH
X-ORIGINAL-URL:https://udiala.com
X-WR-CALDESC:Events for United Distributors
REFRESH-INTERVAL;VALUE=DURATION:PT1H
X-Robots-Tag:noindex
X-PUBLISHED-TTL:PT1H
BEGIN:VTIMEZONE
TZID:America/Chicago
BEGIN:DAYLIGHT
TZOFFSETFROM:-0600
TZOFFSETTO:-0500
TZNAME:CDT
DTSTART:20240310T080000
END:DAYLIGHT
BEGIN:STANDARD
TZOFFSETFROM:-0500
TZOFFSETTO:-0600
TZNAME:CST
DTSTART:20241103T070000
END:STANDARD
END:VTIMEZONE
BEGIN:VEVENT
DTSTART;TZID=America/Chicago:20240511T180000
DTEND;TZID=America/Chicago:20240511T210000
DTSTAMP:20260421T054502
CREATED:20240424T183409Z
LAST-MODIFIED:20240424T184659Z
UID:10000079-1715450400-1715461200@udiala.com
SUMMARY:7th Annual Cahaba Dermatology & Spa Magic City Wine Fest
DESCRIPTION:https://www.magiccitywinefest.com/ \nhttps://www.instagram.com/magiccitywinefest/ \n  \n  \n 
URL:https://udiala.com/event/7th-annual-cahaba-dermatology-spa-magic-city-wine-fest/
LOCATION:Railroad Park
END:VEVENT
END:VCALENDAR