BEGIN:VCALENDAR
VERSION:2.0
PRODID:-//United Distributors - ECPv6.15.0.1//NONSGML v1.0//EN
CALSCALE:GREGORIAN
METHOD:PUBLISH
X-ORIGINAL-URL:https://udiala.com
X-WR-CALDESC:Events for United Distributors
REFRESH-INTERVAL;VALUE=DURATION:PT1H
X-Robots-Tag:noindex
X-PUBLISHED-TTL:PT1H
BEGIN:VTIMEZONE
TZID:America/Chicago
BEGIN:DAYLIGHT
TZOFFSETFROM:-0600
TZOFFSETTO:-0500
TZNAME:CDT
DTSTART:20240310T080000
END:DAYLIGHT
BEGIN:STANDARD
TZOFFSETFROM:-0500
TZOFFSETTO:-0600
TZNAME:CST
DTSTART:20241103T070000
END:STANDARD
END:VTIMEZONE
BEGIN:VEVENT
DTSTART;TZID=America/Chicago:20240509T080000
DTEND;TZID=America/Chicago:20240509T170000
DTSTAMP:20260421T051640
CREATED:20240514T151252Z
LAST-MODIFIED:20240514T151252Z
UID:10000083-1715241600-1715274000@udiala.com
SUMMARY:Huntsville Cookout Pictures
DESCRIPTION:Huntsville Cookout for UJB Associates \n  \n \n 
URL:https://udiala.com/event/huntsville-cookout-pictures/
LOCATION:AL
END:VEVENT
END:VCALENDAR