BEGIN:VCALENDAR
VERSION:2.0
PRODID:-//United Distributors - ECPv6.15.0.1//NONSGML v1.0//EN
CALSCALE:GREGORIAN
METHOD:PUBLISH
X-ORIGINAL-URL:https://udiala.com
X-WR-CALDESC:Events for United Distributors
REFRESH-INTERVAL;VALUE=DURATION:PT1H
X-Robots-Tag:noindex
X-PUBLISHED-TTL:PT1H
BEGIN:VTIMEZONE
TZID:America/Chicago
BEGIN:DAYLIGHT
TZOFFSETFROM:-0600
TZOFFSETTO:-0500
TZNAME:CDT
DTSTART:20240310T080000
END:DAYLIGHT
BEGIN:STANDARD
TZOFFSETFROM:-0500
TZOFFSETTO:-0600
TZNAME:CST
DTSTART:20241103T070000
END:STANDARD
END:VTIMEZONE
BEGIN:VEVENT
DTSTART;TZID=America/Chicago:20240214T180000
DTEND;TZID=America/Chicago:20240214T180000
DTSTAMP:20260421T093326
CREATED:20240126T165527Z
LAST-MODIFIED:20240126T165527Z
UID:10000058-1707933600-1707933600@udiala.com
SUMMARY:Zeke's Restaurant - Italian Wine Dinner
DESCRIPTION:Italian Wine Dinner at Zeke’s Restaurant \n26619 Perdido Beach Blvd\, Orange Beach\, AL
URL:https://udiala.com/event/zekes-restaurant-italian-wine-dinner/
LOCATION:Zeke’s Restaurant\, 26619 Perdido Beach Blvd\, Orange Beach\, AL\, United States
END:VEVENT
END:VCALENDAR