BEGIN:VCALENDAR
VERSION:2.0
PRODID:-//United Distributors - ECPv6.15.0.1//NONSGML v1.0//EN
CALSCALE:GREGORIAN
METHOD:PUBLISH
X-ORIGINAL-URL:https://udiala.com
X-WR-CALDESC:Events for United Distributors
REFRESH-INTERVAL;VALUE=DURATION:PT1H
X-Robots-Tag:noindex
X-PUBLISHED-TTL:PT1H
BEGIN:VTIMEZONE
TZID:America/Chicago
BEGIN:DAYLIGHT
TZOFFSETFROM:-0600
TZOFFSETTO:-0500
TZNAME:CDT
DTSTART:20230312T080000
END:DAYLIGHT
BEGIN:STANDARD
TZOFFSETFROM:-0500
TZOFFSETTO:-0600
TZNAME:CST
DTSTART:20231105T070000
END:STANDARD
END:VTIMEZONE
BEGIN:VEVENT
DTSTART;VALUE=DATE:20230709
DTEND;VALUE=DATE:20230710
DTSTAMP:20260422T014111
CREATED:20230629T184122Z
LAST-MODIFIED:20230629T184122Z
UID:10000046-1688860800-1688947199@udiala.com
SUMMARY:ART FROM THE HEART JULY 9TH B&A WAREHOUSE
DESCRIPTION:Art from The Heart on July 9th\, 2023 \nEvent Link : https://studiobythetracks.org/artfromtheheart/ \n  \n 
URL:https://udiala.com/event/art-from-the-heart-july-9th-ba-warehouse/
LOCATION:B & A Warehouse
END:VEVENT
END:VCALENDAR