BEGIN:VCALENDAR
VERSION:2.0
PRODID:-//United Distributors - ECPv6.15.0.1//NONSGML v1.0//EN
CALSCALE:GREGORIAN
METHOD:PUBLISH
X-WR-CALNAME:United Distributors
X-ORIGINAL-URL:https://udiala.com
X-WR-CALDESC:Events for United Distributors
REFRESH-INTERVAL;VALUE=DURATION:PT1H
X-Robots-Tag:noindex
X-PUBLISHED-TTL:PT1H
BEGIN:VTIMEZONE
TZID:America/Chicago
BEGIN:DAYLIGHT
TZOFFSETFROM:-0600
TZOFFSETTO:-0500
TZNAME:CDT
DTSTART:20230312T080000
END:DAYLIGHT
BEGIN:STANDARD
TZOFFSETFROM:-0500
TZOFFSETTO:-0600
TZNAME:CST
DTSTART:20231105T070000
END:STANDARD
END:VTIMEZONE
BEGIN:VEVENT
DTSTART;TZID=America/Chicago:20230707T160000
DTEND;TZID=America/Chicago:20230707T160000
DTSTAMP:20260422T013940
CREATED:20230323T163720Z
LAST-MODIFIED:20230323T163720Z
UID:10000041-1688745600-1688745600@udiala.com
SUMMARY:Women Behind The Wine Tasting
DESCRIPTION:Women Behind The Wine Tasting \nVintage Cigar Lounge \nHuntsville\, AL
URL:https://udiala.com/event/women-behind-the-wine-tasting-2/
LOCATION:Vintage Cigar Lounge Huntsville\, AL
END:VEVENT
END:VCALENDAR